BEGIN:VCALENDAR
VERSION:2.0
PRODID:-//Vereint Bochum - ECPv6.15.13.1//NONSGML v1.0//EN
CALSCALE:GREGORIAN
METHOD:PUBLISH
X-WR-CALNAME:Vereint Bochum
X-ORIGINAL-URL:https://vereintbochum.de
X-WR-CALDESC:Veranstaltungen für Vereint Bochum
REFRESH-INTERVAL;VALUE=DURATION:PT1H
X-Robots-Tag:noindex
X-PUBLISHED-TTL:PT1H
BEGIN:VTIMEZONE
TZID:Europe/Berlin
BEGIN:DAYLIGHT
TZOFFSETFROM:+0100
TZOFFSETTO:+0200
TZNAME:CEST
DTSTART:20250330T010000
END:DAYLIGHT
BEGIN:STANDARD
TZOFFSETFROM:+0200
TZOFFSETTO:+0100
TZNAME:CET
DTSTART:20251026T010000
END:STANDARD
BEGIN:DAYLIGHT
TZOFFSETFROM:+0100
TZOFFSETTO:+0200
TZNAME:CEST
DTSTART:20260329T010000
END:DAYLIGHT
BEGIN:STANDARD
TZOFFSETFROM:+0200
TZOFFSETTO:+0100
TZNAME:CET
DTSTART:20261025T010000
END:STANDARD
BEGIN:DAYLIGHT
TZOFFSETFROM:+0100
TZOFFSETTO:+0200
TZNAME:CEST
DTSTART:20270328T010000
END:DAYLIGHT
BEGIN:STANDARD
TZOFFSETFROM:+0200
TZOFFSETTO:+0100
TZNAME:CET
DTSTART:20271031T010000
END:STANDARD
END:VTIMEZONE
BEGIN:VEVENT
DTSTART;TZID=Europe/Berlin:20260421T183000
DTEND;TZID=Europe/Berlin:20260421T200000
DTSTAMP:20260421T165720
CREATED:20260312T103526Z
LAST-MODIFIED:20260312T103526Z
UID:2652-1776796200-1776801600@vereintbochum.de
SUMMARY:Ne Runde quasseln
DESCRIPTION:Einsamkeit hat viele Facetten. Darüber zu sprechen\, ist oft der erste Schritt\, um neue Perspektiven zu gewinnen. Mit unserer Austauschgruppe schaffen wir einen geschützten Raum\, in dem Interessierte Gehör finden\, Erfahrungen teilen und gemeinsam Strategien für den Alltag entwickeln können.\nWir sind keine Therapiegruppe\, sondern eine Moderierte Austauschgruppe.\nDas bedeutet: Deine Erlebnisse stehen im Mittelpunkt. Wir legen Wert auf ein vertrauensvolles Miteinander\, in dem jede Stimme zählt.\nModeriert wird die Runde von Tina\, Constantin und Tim aus unserem Verein\, die für Struktur sorgen und als feste Ansprechpartner*in für euch da sind. \nDu möchtest dabei sein?\nDamit wir planen können und genug Platz für alle haben\, bitten wir dich um eine kurze Anmeldung per E-Mail. Wir freuen uns auf dich!\n👉 Anmeldung an: events@vereintbochum.de \nWann?\nJeden zweiten Dienstag (ab 10.03.)\, 18:30 – 20:00 Uhr.\nWo?\nKo-Fabrik Bochum\, Stühmeyerstraße 33\, 44787 Bochum.\nKosten\nDas Angebot ist komplett kostenlos.\nWer?\nAlle\, die sich mit dem Thema Einsamkeit beschäftigen möchten.
URL:https://vereintbochum.de/event/ne-runde-quasseln-3/
LOCATION:Quartiershalle in der Ko-Fabrik Bochum\, Stühmeyerstraße 33\, Bochum\, 44787\, Germany
ATTACH;FMTTYPE=image/jpeg:https://vereintbochum.de/wp-content/uploads/2025/10/2025_10_09_TK_Klein_PLAUESKEN-1-6.jpg
END:VEVENT
BEGIN:VEVENT
DTSTART;TZID=Europe/Berlin:20260430T170000
DTEND;TZID=Europe/Berlin:20260430T180000
DTSTAMP:20260421T165720
CREATED:20260312T095612Z
LAST-MODIFIED:20260312T095825Z
UID:2644-1777568400-1777572000@vereintbochum.de
SUMMARY:Latschen und Quatschen
DESCRIPTION:Seit Sommer 2024 gehen wir regelmäßig in Bochum Spazieren. Wir freuen uns immer\, wenn neue Menschen dazustoßen: \nLatschen & Quatschen\nJeden 2. Donnerstag um 17:00 Uhr \nWestpark Bochum\, direkt unten an der großen Freitreppe am Jahrhunderthaus (Alleestraße 80) ist unser Startpunkt für unsere Runde durch den Westpark! \nFeierabend\, die Treter an und ab in’ Park: Wir sind ’ne bunte Truppe unterschiedlichen alters und drehen jeden zweiten Donnerstag ’ne lockere Runde durch’s Grüne. Kein Stress\, kein Tempozwang\, hauptsache gemeinsam unterwegs! Egal ob Du einfach nur ein bisschen Bewegung in Gesellschaft am Ende eines langen Tages wünscht oder Du neu in der Stadt bist und neue Menschen kennenlernen willst\, schau gerne mal vorbei!\nBei Fragen? Schreib uns einfach eine Mail an vorstand@vereintbochum.de \nWir freuen uns auf Dich\,\nLena & Tim von Vereint Bochum
URL:https://vereintbochum.de/event/latschen-und-quatschen-9/
LOCATION:Latschen und Quatschen -Westpark\, Alleestraße 80\, Bochum\, NRW\, 44793\, Germany
ATTACH;FMTTYPE=image/jpeg:https://vereintbochum.de/wp-content/uploads/2025/06/E0D91B00-5669-470C-A02A-17D31A4FB81D-1-scaled.jpg
END:VEVENT
BEGIN:VEVENT
DTSTART;TZID=Europe/Berlin:20260706T110000
DTEND;TZID=Europe/Berlin:20260708T150000
DTSTAMP:20260421T165720
CREATED:20260331T163304Z
LAST-MODIFIED:20260331T163304Z
UID:2694-1783335600-1783522800@vereintbochum.de
SUMMARY:Werkstatt gegen Einsamkeit
DESCRIPTION:Vereint Bochum im Oval Office des Schauspielhauses\nMontag\, 06. Juli – Mittwoch\, 08. Juli | tagsüber \nWie fühlt sich Einsamkeit an und was können wir ihr entgegensetzen? \nWir sind Vereint Bochum e. V.\, ein gemeinnütziger Verein\, der Räume für echtes Miteinander schafft. Gemeinsam mit euch möchten wir uns in der Werkstatt gegen Einsamkeit diesem Gefühl offen und aktiv annähern. \nAn drei Tagen laden wir euch tagsüber ins Oval Office ein\, um Einsamkeit und die Herausforderungen des Miteinanders nicht nur zu thematisieren\, sondern gemeinsam ins Handeln zu kommen. In Workshops\, Gesprächen und interaktiven Formaten beleuchten wir persönliche und gesellschaftliche Perspektiven\, teilen Erfahrungen und entwickeln konkrete Ideen für mehr Zusammenhalt im Alltag. \nOb leise Gedanken oder neue Begegnungen\, hier ist Platz dafür. \nWeitere Infos folgen
URL:https://vereintbochum.de/event/werkstatt-gegen-einsamkeit/
LOCATION:Oval Offices im Schauspielhaus Bochum\, Königsallee 15\, Bochum\, 44789
ATTACH;FMTTYPE=image/jpeg:https://vereintbochum.de/wp-content/uploads/2024/10/eigen_regie_workshops-5-scaled.jpg
END:VEVENT
BEGIN:VEVENT
DTSTART;TZID=Europe/Berlin:20260708T193000
DTEND;TZID=Europe/Berlin:20260708T220000
DTSTAMP:20260421T165720
CREATED:20260331T162842Z
LAST-MODIFIED:20260331T162842Z
UID:2690-1783539000-1783548000@vereintbochum.de
SUMMARY:Wer liked uns offline?
DESCRIPTION:Ein Abend über echtes Miteinander zwischen Swipen\, Scrollen und KI\nMittwoch\, 08. Juli | 19.30 Uhr | Kammerspiele des Bochumer Schauspielhauses \nWir sind ständig verbunden und fühlen uns doch oft nicht wirklich erreicht. \nWas macht Social Media mit unserem Miteinander?\nWie verändert Künstliche Intelligenz unsere Beziehungen?\nUnd wo bleibt das echte Gegenüber? \nMit „Wer liked uns offline?“ laden wir zu einem Abend ein\, der diese Fragen aufgreift – mit Gästen aus Wissenschaft\, Kunst und Öffentlichkeit\, mit Gespräch\, poetischen Momenten und Raum für Austausch. \nEin Abend über Einsamkeit im digitalen Zeitalter\, über Sichtbarkeit\, Sehnsucht nach Nähe und die Frage\, wie wir wirklich miteinander in Verbindung bleiben. \nWeitere Infos folgen
URL:https://vereintbochum.de/event/wer-liked-uns-offline/
LOCATION:Kammerspiele Schauspielhaus Bochum\, Königsallee 15\, Bochum\, 44789
ATTACH;FMTTYPE=image/jpeg:https://vereintbochum.de/wp-content/uploads/2024/10/eigenregie2.jpg
END:VEVENT
END:VCALENDAR